BEGIN:VCALENDAR
VERSION:2.0
PRODID:-//RIGHTHERE//CALENDARIZE IT V3.2//EN
BEGIN:VTIMEZONE
TZID:America/New_York
X-MICROSOFT-CDO-TZID:10
BEGIN:STANDARD
DTSTART:20251102T060000
TZOFFSETFROM:-0400
TZOFFSETTO:-0500
TZNAME:EST
END:STANDARD
BEGIN:DAYLIGHT
DTSTART:20260308T070000
TZOFFSETFROM:-0500
TZOFFSETTO:-0400
TZNAME:EDT
END:DAYLIGHT
BEGIN:STANDARD
DTSTART:20261101T060000
TZOFFSETFROM:-0400
TZOFFSETTO:-0500
TZNAME:EST
END:STANDARD
END:VTIMEZONE
BEGIN:VEVENT
UID:104547-events@magicguides.com
DTSTART;VALUE=DATE:20260420
DTEND;VALUE=DATE:20260420
DTSTAMP;TZID=America/New_York:20250703T002327
SUMMARY:Epic Universe » [3]
DESCRIPTION:<p>April 20\, 2026<br>Avg. Temp. 62.9° - 83° (F)</p><p><stron
 g>Average Crowds</strong></p>
END:VEVENT
END:VCALENDAR