BEGIN:VCALENDAR
VERSION:2.0
PRODID:-//RIGHTHERE//CALENDARIZE IT V3.2//EN
BEGIN:VTIMEZONE
TZID:America/New_York
X-MICROSOFT-CDO-TZID:10
BEGIN:STANDARD
DTSTART:20251102T060000
TZOFFSETFROM:-0400
TZOFFSETTO:-0500
TZNAME:EST
END:STANDARD
BEGIN:DAYLIGHT
DTSTART:20260308T070000
TZOFFSETFROM:-0500
TZOFFSETTO:-0400
TZNAME:EDT
END:DAYLIGHT
BEGIN:STANDARD
DTSTART:20261101T060000
TZOFFSETFROM:-0400
TZOFFSETTO:-0500
TZNAME:EST
END:STANDARD
END:VTIMEZONE
BEGIN:VEVENT
UID:102797-events@magicguides.com
DTSTART;VALUE=DATE:20260421
DTEND;VALUE=DATE:20260421
DTSTAMP;TZID=America/New_York:20250501T200112
SUMMARY:Universal Studios » [2]
DESCRIPTION:<p>April 21\, 2026<br>Avg. Temp. 63.1° - 83° (F)</p><p><stron
 g>Below Average Crowds</strong></p>
END:VEVENT
END:VCALENDAR